BEGIN:VCALENDAR
VERSION:2.0
PRODID:-//Konsultan Customer Experience, Call Center &amp; Service Leadership Training Indonesia | The Bridge Academy - ECPv6.14.2//NONSGML v1.0//EN
CALSCALE:GREGORIAN
METHOD:PUBLISH
X-WR-CALNAME:Konsultan Customer Experience, Call Center &amp; Service Leadership Training Indonesia | The Bridge Academy
X-ORIGINAL-URL:https://www.thebridge.id
X-WR-CALDESC:Events for Konsultan Customer Experience, Call Center &amp; Service Leadership Training Indonesia | The Bridge Academy
REFRESH-INTERVAL;VALUE=DURATION:PT1H
X-Robots-Tag:noindex
X-PUBLISHED-TTL:PT1H
BEGIN:VTIMEZONE
TZID:Asia/Krasnoyarsk
BEGIN:STANDARD
TZOFFSETFROM:+0700
TZOFFSETTO:+0700
TZNAME:+07
DTSTART:20250101T000000
END:STANDARD
END:VTIMEZONE
BEGIN:VEVENT
DTSTART;VALUE=DATE:20250312
DTEND;VALUE=DATE:20250314
DTSTAMP:20260419T192715
CREATED:20250406T224402Z
LAST-MODIFIED:20250518T023613Z
UID:1893-1741762800-1741849199@www.thebridge.id
SUMMARY:Understanding Customer Needs
DESCRIPTION:Setiap pelanggan datang dengan kebutuhan dan harapan yang unik terhadap layanan dan produk Anda. Dengan memahami secara mendalam apa yang pelanggan inginkan\, kita dapat melampaui ekspektasi mereka dan menciptakan pengalaman yang tak terlupakan. \nDalam training ini\, peserta akan menguasai keterampilan untuk mengidentifikasi\, menganalisis\, dan merespons kebutuhan pelanggan dengan cara yang tepat dan efektif. Dengan pemahaman yang kuat\, perusahaan tidak hanya dapat memenuhi dan melampaui ekspektasi\, tetapi juga menciptakan loyalitas pelanggan yang berkelanjutan yang mampu membuat mereka selalu kembali. \nOutline Pelatihan \n\nMemahami Kebutuhan dan Harapa Pelanggan untuk Melampaui Ekspektasi\nMeningkatkan Pengalaman Pelanggan yang Tak Terlupakan di Setiap Interaksi\nStrategi Ampuh Mengidentifikasi dan Menganalisis Kebutuhan Pelanggan\nImplementasi dalam Layanan dan Bisnis\n\nTraining Ini Cocok untuk: \n\nTim Customer Service & Customer Experience\nSales & Marketing\nBusiness Owners & Entrepreneurs
URL:https://www.thebridge.id/event/understanding-customer-needs/
LOCATION:Jakarta
CATEGORIES:ID,Public Training
END:VEVENT
END:VCALENDAR